BEGIN:VCALENDAR
VERSION:2.0
PRODID:-//IACT Teachers - ECPv6.11.2//NONSGML v1.0//EN
CALSCALE:GREGORIAN
METHOD:PUBLISH
X-WR-CALNAME:IACT Teachers
X-ORIGINAL-URL:https://www.iacteachers.org/ar/
X-WR-CALDESC:Events for IACT Teachers
REFRESH-INTERVAL;VALUE=DURATION:PT1H
X-Robots-Tag:noindex
X-PUBLISHED-TTL:PT1H
BEGIN:VTIMEZONE
TZID:UTC
BEGIN:STANDARD
TZOFFSETFROM:+0000
TZOFFSETTO:+0000
TZNAME:UTC
DTSTART:20260101T000000
END:STANDARD
END:VTIMEZONE
BEGIN:VEVENT
DTSTART;VALUE=DATE:20261012
DTEND;VALUE=DATE:20261014
DTSTAMP:20260419T193026
CREATED:20260228T071729Z
LAST-MODIFIED:20260228T071729Z
UID:22274-1791763200-1791935999@www.iacteachers.org
SUMMARY:Advancing research on adult learning
DESCRIPTION:
URL:https://www.iacteachers.org/ar/event/advancing-research-on-adult-learning/
LOCATION:Thessaloniki\, Greece\, Greece
END:VEVENT
END:VCALENDAR