BEGIN:VCALENDAR
VERSION:2.0
PRODID:-//IACT Teachers - ECPv6.11.2//NONSGML v1.0//EN
CALSCALE:GREGORIAN
METHOD:PUBLISH
X-WR-CALNAME:IACT Teachers
X-ORIGINAL-URL:https://www.iacteachers.org
X-WR-CALDESC:Events for IACT Teachers
REFRESH-INTERVAL;VALUE=DURATION:PT1H
X-Robots-Tag:noindex
X-PUBLISHED-TTL:PT1H
BEGIN:VTIMEZONE
TZID:UTC
BEGIN:STANDARD
TZOFFSETFROM:+0000
TZOFFSETTO:+0000
TZNAME:UTC
DTSTART:20260101T000000
END:STANDARD
END:VTIMEZONE
BEGIN:VEVENT
DTSTART;VALUE=DATE:20260612
DTEND;VALUE=DATE:20260615
DTSTAMP:20260419T125237
CREATED:20260228T060306Z
LAST-MODIFIED:20260228T060306Z
UID:22195-1781222400-1781481599@www.iacteachers.org
SUMMARY:The 11th International Conference on Research in Teaching and Education
DESCRIPTION:
URL:https://www.iacteachers.org/event/the-11th-international-conference-on-research-in-teaching-and-education/
LOCATION:Vienna\, Austria
END:VEVENT
BEGIN:VEVENT
DTSTART;TZID=UTC:20260612T080000
DTEND;TZID=UTC:20260614T170000
DTSTAMP:20260419T125237
CREATED:20260228T062040Z
LAST-MODIFIED:20260228T062040Z
UID:22209-1781251200-1781456400@www.iacteachers.org
SUMMARY:10th World Conference on Research in Teaching and Education
DESCRIPTION:
URL:https://www.iacteachers.org/event/10th-world-conference-on-research-in-teaching-and-education/
LOCATION:Tokyo\, Japan
END:VEVENT
END:VCALENDAR