BEGIN:VCALENDAR
VERSION:2.0
PRODID:-//IACT Teachers - ECPv6.11.2//NONSGML v1.0//EN
CALSCALE:GREGORIAN
METHOD:PUBLISH
X-ORIGINAL-URL:https://www.iacteachers.org/fr/
X-WR-CALDESC:Évènements pour IACT Teachers
REFRESH-INTERVAL;VALUE=DURATION:PT1H
X-Robots-Tag:noindex
X-PUBLISHED-TTL:PT1H
BEGIN:VTIMEZONE
TZID:UTC
BEGIN:STANDARD
TZOFFSETFROM:+0000
TZOFFSETTO:+0000
TZNAME:UTC
DTSTART:20260101T000000
END:STANDARD
END:VTIMEZONE
BEGIN:VEVENT
DTSTART;VALUE=DATE:20260609
DTEND;VALUE=DATE:20260611
DTSTAMP:20260419T131557
CREATED:20260228T071522Z
LAST-MODIFIED:20260228T071522Z
UID:22271-1780963200-1781135999@www.iacteachers.org
SUMMARY:Resilience & Community Building EAEA General Assembly Annual Conference
DESCRIPTION:
URL:https://www.iacteachers.org/fr/event/resilience-community-building-eaea-general-assembly-annual-conference/
LOCATION:Warsaw\, Poland\, Warsaw\, Poland
END:VEVENT
END:VCALENDAR