BEGIN:VCALENDAR
VERSION:2.0
PRODID:-//IACT Teachers - ECPv6.11.2//NONSGML v1.0//EN
CALSCALE:GREGORIAN
METHOD:PUBLISH
X-WR-CALNAME:IACT Teachers
X-ORIGINAL-URL:https://www.iacteachers.org/fr/
X-WR-CALDESC:Évènements pour IACT Teachers
REFRESH-INTERVAL;VALUE=DURATION:PT1H
X-Robots-Tag:noindex
X-PUBLISHED-TTL:PT1H
BEGIN:VTIMEZONE
TZID:UTC
BEGIN:STANDARD
TZOFFSETFROM:+0000
TZOFFSETTO:+0000
TZNAME:UTC
DTSTART:20260101T000000
END:STANDARD
END:VTIMEZONE
BEGIN:VEVENT
DTSTART;VALUE=DATE:20260629
DTEND;VALUE=DATE:20260702
DTSTAMP:20260419T145103
CREATED:20260228T060536Z
LAST-MODIFIED:20260228T060536Z
UID:22197-1782691200-1782950399@www.iacteachers.org
SUMMARY:EDULEARN26: 18th annual International Conference on Education and New Learning Technologies
DESCRIPTION:
URL:https://www.iacteachers.org/fr/event/edulearn26-18th-annual-international-conference-on-education-and-new-learning-technologies/
LOCATION:Palma de Mallorca\, Spain
END:VEVENT
BEGIN:VEVENT
DTSTART;VALUE=DATE:20260708
DTEND;VALUE=DATE:20260711
DTSTAMP:20260419T145103
CREATED:20260228T062312Z
LAST-MODIFIED:20260228T062312Z
UID:22211-1783468800-1783727999@www.iacteachers.org
SUMMARY:SIG 28 Conference 2026
DESCRIPTION:
URL:https://www.iacteachers.org/fr/event/sig-28-conference-2026/
LOCATION:Reggio Emilia\, Italy\, Reggio Emilia\, Italy
END:VEVENT
BEGIN:VEVENT
DTSTART;VALUE=DATE:20260723
DTEND;VALUE=DATE:20260725
DTSTAMP:20260419T145103
CREATED:20260228T065854Z
LAST-MODIFIED:20260228T065854Z
UID:22253-1784764800-1784937599@www.iacteachers.org
SUMMARY:4th Annual TVET & Higher EducationExpo 2026
DESCRIPTION:
URL:https://www.iacteachers.org/fr/event/4th-annual-tvet-higher-educationexpo-2026/
LOCATION:Sandton\, South Africa\, Sandton\, South Africa
END:VEVENT
BEGIN:VEVENT
DTSTART;VALUE=DATE:20260724
DTEND;VALUE=DATE:20260727
DTSTAMP:20260419T145103
CREATED:20260331T141200Z
LAST-MODIFIED:20260331T141200Z
UID:22290-1784851200-1785110399@www.iacteachers.org
SUMMARY:5th International Education Conference
DESCRIPTION:
URL:https://www.iacteachers.org/fr/event/5th-international-education-conference/
LOCATION:Dublin\, Ireland
END:VEVENT
BEGIN:VEVENT
DTSTART;VALUE=DATE:20260727
DTEND;VALUE=DATE:20260728
DTSTAMP:20260419T145103
CREATED:20260228T064750Z
LAST-MODIFIED:20260228T064750Z
UID:22241-1785110400-1785196799@www.iacteachers.org
SUMMARY:The PIE High
DESCRIPTION:
URL:https://www.iacteachers.org/fr/event/the-pie-high/
LOCATION:Gold Coast\, Australia\, Gold Coast\, Australia
END:VEVENT
BEGIN:VEVENT
DTSTART;VALUE=DATE:20260728
DTEND;VALUE=DATE:20260730
DTSTAMP:20260419T145103
CREATED:20260228T064919Z
LAST-MODIFIED:20260228T064919Z
UID:22244-1785196800-1785369599@www.iacteachers.org
SUMMARY:The PIE Live Asia Pacific
DESCRIPTION:
URL:https://www.iacteachers.org/fr/event/the-pie-live-asia-pacific/
LOCATION:Gold Coast\, Australia\, Gold Coast\, Australia
END:VEVENT
END:VCALENDAR