BEGIN:VCALENDAR
VERSION:2.0
PRODID:-//IACT Teachers - ECPv6.11.2//NONSGML v1.0//EN
CALSCALE:GREGORIAN
METHOD:PUBLISH
X-WR-CALNAME:IACT Teachers
X-ORIGINAL-URL:https://www.iacteachers.org/fr/
X-WR-CALDESC:Évènements pour IACT Teachers
REFRESH-INTERVAL;VALUE=DURATION:PT1H
X-Robots-Tag:noindex
X-PUBLISHED-TTL:PT1H
BEGIN:VTIMEZONE
TZID:UTC
BEGIN:STANDARD
TZOFFSETFROM:+0000
TZOFFSETTO:+0000
TZNAME:UTC
DTSTART:20260101T000000
END:STANDARD
END:VTIMEZONE
BEGIN:VEVENT
DTSTART;VALUE=DATE:20260904
DTEND;VALUE=DATE:20260905
DTSTAMP:20260419T161919
CREATED:20260228T065050Z
LAST-MODIFIED:20260228T065050Z
UID:22246-1788480000-1788566399@www.iacteachers.org
SUMMARY:The PIEoneer Awards 2026
DESCRIPTION:
URL:https://www.iacteachers.org/fr/event/the-pieoneer-awards-2026/
LOCATION:London\, United Kingdom
END:VEVENT
BEGIN:VEVENT
DTSTART;TZID=UTC:20260909T080000
DTEND;TZID=UTC:20260910T170000
DTSTAMP:20260419T161919
CREATED:20260228T070051Z
LAST-MODIFIED:20260228T070051Z
UID:22256-1788940800-1789059600@www.iacteachers.org
SUMMARY:The 14th International Conference on Sustainable Development
DESCRIPTION:
URL:https://www.iacteachers.org/fr/event/the-14th-international-conference-on-sustainable-development/
LOCATION:Rome\, Italy
END:VEVENT
BEGIN:VEVENT
DTSTART;VALUE=DATE:20260921
DTEND;VALUE=DATE:20260924
DTSTAMP:20260419T161919
CREATED:20260228T070253Z
LAST-MODIFIED:20260228T070253Z
UID:22258-1789948800-1790207999@www.iacteachers.org
SUMMARY:5th International G.R.E.A.T. Conference "Sustainability in Vocational Education and Training (VET)"
DESCRIPTION:
URL:https://www.iacteachers.org/fr/event/5th-international-g-r-e-a-t-conference-sustainability-in-vocational-education-and-training-vet/
LOCATION:Cologne\, Germany\, Cologne\, Germany
END:VEVENT
BEGIN:VEVENT
DTSTART;VALUE=DATE:20260922
DTEND;VALUE=DATE:20260928
DTSTAMP:20260419T161919
CREATED:20260228T070641Z
LAST-MODIFIED:20260228T070641Z
UID:22264-1790035200-1790553599@www.iacteachers.org
SUMMARY:WorldSkills Shanghai 2026
DESCRIPTION:
URL:https://www.iacteachers.org/fr/event/worldskills-shanghai-2026/
LOCATION:Shanghai\, China\, Shanghai\, China
END:VEVENT
BEGIN:VEVENT
DTSTART;VALUE=DATE:20260924
DTEND;VALUE=DATE:20260926
DTSTAMP:20260419T161919
CREATED:20260228T070436Z
LAST-MODIFIED:20260228T070436Z
UID:22261-1790208000-1790380799@www.iacteachers.org
SUMMARY:10th Research Conference of the International Network for Innovative Apprenticeship (INAP)
DESCRIPTION:
URL:https://www.iacteachers.org/fr/event/10th-research-conference-of-the-international-network-for-innovative-apprenticeship-inap/
LOCATION:Constance\, Germany\, Constance\, Germany
END:VEVENT
END:VCALENDAR